BEGIN:VCALENDAR
VERSION:2.0
PRODID:-//wp-events-plugin.com//7.2.3.1//EN
BEGIN:VEVENT
UID:380@formaguard.fr
DTSTART;VALUE=DATE:20260518
DTEND;VALUE=DATE:20260530
DTSTAMP:20251013T083949Z
URL:https://www.formaguard.fr/formations/ssiap-1-18-05-2026/
SUMMARY:SSIAP 1 - 18/05/2026
DESCRIPTION:Agent de sérvice de sécurité incendie et d'assistance à per
 sonnes\nFormation initiale - 67 heures (2 semaines).\nPrise en charge par 
 le CPF.
CATEGORIES:Sécurité
END:VEVENT
END:VCALENDAR