BEGIN:VCALENDAR
VERSION:2.0
PRODID:-//wp-events-plugin.com//7.2.3.1//EN
BEGIN:VEVENT
UID:435@formaguard.fr
DTSTART;VALUE=DATE:20261209
DTEND;VALUE=DATE:20261211
DTSTAMP:20251014T083441Z
URL:https://www.formaguard.fr/formations/ssiap-1-recyclage-09-12-2026/
SUMMARY:SSIAP 1 Recyclage - 09/12/2026
DESCRIPTION:Agent de sérvice de sécurité incendie et d'assistance à per
 sonnes\nFormation recyclage - 14 heures.\nPrise en charge par le CPF.
CATEGORIES:Sécurité
END:VEVENT
END:VCALENDAR