BEGIN:VCALENDAR
VERSION:2.0
PRODID:-//wp-events-plugin.com//7.2.3.1//EN
BEGIN:VEVENT
UID:429@formaguard.fr
DTSTART;VALUE=DATE:20260525
DTEND;VALUE=DATE:20260527
DTSTAMP:20251014T083025Z
URL:https://www.formaguard.fr/formations/ssiap-1-recyclage-25-05-2026/
SUMMARY:SSIAP 1 Recyclage - 25/05/2026
DESCRIPTION:Agent de sérvice de sécurité incendie et d'assistance à per
 sonnes\nFormation recyclage - 14 heures.\nPrise en charge par le CPF.
CATEGORIES:Sécurité
END:VEVENT
END:VCALENDAR