BEGIN:VCALENDAR
VERSION:2.0
PRODID:-//wp-events-plugin.com//7.2.3.1//EN
BEGIN:VEVENT
UID:383@formaguard.fr
DTSTART;VALUE=DATE:20261116
DTEND;VALUE=DATE:20261128
DTSTAMP:20251013T090502Z
URL:https://www.formaguard.fr/formations/ssiap-2-initiale-16-11-2026/
SUMMARY:SSIAP 2 - Initiale - 16/11/2026
DESCRIPTION:Agent de sérvice de sécurité incendie et d'assistance à per
 sonnes\nFormation initiale - 70 heures.\n\nPrise en charge par le CPF.
CATEGORIES:Sécurité
END:VEVENT
END:VCALENDAR