BEGIN:VCALENDAR
VERSION:2.0
PRODID:-//wp-events-plugin.com//7.2.3.1//EN
BEGIN:VEVENT
UID:391@formaguard.fr
DTSTART;VALUE=DATE:20261123
DTEND;VALUE=DATE:20261125
DTSTAMP:20251013T090603Z
URL:https://www.formaguard.fr/formations/ssiap-2-recyclage-23-11-2026/
SUMMARY:SSIAP 2 Recyclage - 23/11/2026
DESCRIPTION:Agent de sérvice de sécurité incendie et d'assistance à per
 sonnes\nFormation recyclage - 14 heures.\nPrise en charge par le CPF.
CATEGORIES:Sécurité
END:VEVENT
END:VCALENDAR