BEGIN:VCALENDAR
VERSION:2.0
PRODID:-//wp-events-plugin.com//7.2.3.1//EN
BEGIN:VEVENT
UID:310@formaguard.fr
DTSTART;VALUE=DATE:20250422
DTEND;VALUE=DATE:20250705
DTSTAMP:20241112T104522Z
URL:https://www.formaguard.fr/formations/ssiap-3-initiale-04-2025/
SUMMARY:SSIAP 3 - Initiale - 22/04/2025
DESCRIPTION:Chef de service de sécurité incendie et d'assistance à perso
 nnes de niveau 3.\nFormation initiale - 216h (6 semaines)\nDu 22/04 au 06/
 05 puis de 26/05 au 09/06 et 23/06 au 04/07/2025\n\nPrise en charge par le
  CPF.
ATTACH;FMTTYPE=image/jpeg:https://www.formaguard.fr/wp-content/uploads/202
 3/11/image-carré-formation-335x335px-SSIAP-3-1.jpg
CATEGORIES:Sécurité
END:VEVENT
END:VCALENDAR