BEGIN:VCALENDAR
VERSION:2.0
PRODID:-//wp-events-plugin.com//7.2.3.1//EN
BEGIN:VEVENT
UID:375@formaguard.fr
DTSTART;VALUE=DATE:20261005
DTEND;VALUE=DATE:20261212
DTSTAMP:20251013T090011Z
URL:https://www.formaguard.fr/formations/ssiap-3-initiale-05-10-2026/
SUMMARY:SSIAP 3 - Initiale - 05/10/2026
DESCRIPTION:Chef de service de sécurité incendie et d'assistance à perso
 nnes de niveau 3.\nFormation initiale - 216h (6 semaines)\nDu 05/10 au 16/
 10 puis de 02/11 au 16/11 et 30/11 au 11/12/2025\n\nPrise en charge par le
  CPF.
ATTACH;FMTTYPE=image/jpeg:https://www.formaguard.fr/wp-content/uploads/202
 3/11/image-carré-formation-335x335px-SSIAP-3-1.jpg
CATEGORIES:Sécurité
END:VEVENT
END:VCALENDAR