BEGIN:VCALENDAR
VERSION:2.0
PRODID:-//wp-events-plugin.com//7.2.3.1//EN
BEGIN:VEVENT
UID:386@formaguard.fr
DTSTART;VALUE=DATE:20260601
DTEND;VALUE=DATE:20260604
DTSTAMP:20251013T084110Z
URL:https://www.formaguard.fr/formations/ssiap-3-recyclage-01-06-2026/
SUMMARY:SSIAP 3 Recyclage - 01/06/2026
DESCRIPTION:Agent de sérvice de sécurité incendie et d'assistance à per
 sonnes\nFormation recyclage - 21 heures.\nPrise en charge par le CPF.
CATEGORIES:Sécurité
END:VEVENT
END:VCALENDAR