BEGIN:VCALENDAR
VERSION:2.0
PRODID:-//wp-events-plugin.com//7.2.3.1//EN
BEGIN:VEVENT
UID:387@formaguard.fr
DTSTART;VALUE=DATE:20261102
DTEND;VALUE=DATE:20261105
DTSTAMP:20251013T090356Z
URL:https://www.formaguard.fr/formations/ssiap-3-recyclage-02-11-2026/
SUMMARY:SSIAP 3 Recyclage - 02/11/2026
DESCRIPTION:Agent de sérvice de sécurité incendie et d'assistance à per
 sonnes\nFormation recyclage - 21 heures.\nPrise en charge par le CPF.
CATEGORIES:Sécurité
END:VEVENT
END:VCALENDAR