BEGIN:VCALENDAR
VERSION:2.0
PRODID:-//wp-events-plugin.com//7.2.3.1//EN
BEGIN:VEVENT
UID:385@formaguard.fr
DTSTART;VALUE=DATE:20261102
DTEND;VALUE=DATE:20261107
DTSTAMP:20251013T090129Z
URL:https://www.formaguard.fr/formations/ssiap-3-remise-a-niveau-02-11-202
 6/
SUMMARY:SSIAP 3 Remise à niveau - 02/11/2026
DESCRIPTION:Agent de sérvice de sécurité incendie et d'assistance à per
 sonnes\nFormation remise à niveau : 35 heures.\nPrise en charge par le CP
 F.
CATEGORIES:Sécurité
LOCATION:\, \, 
X-APPLE-STRUCTURED-LOCATION;VALUE=URI;X-ADDRESS=\, ;X-APPLE-RADIUS=100;X-TI
 TLE=:geo:0,0
END:VEVENT
END:VCALENDAR