BEGIN:VCALENDAR
VERSION:2.0
PRODID:-//wp-events-plugin.com//7.2.3.1//EN
BEGIN:VEVENT
UID:343@formaguard.fr
DTSTART;VALUE=DATE:20251103
DTEND;VALUE=DATE:20251108
DTSTAMP:20250319T100608Z
URL:https://www.formaguard.fr/formations/ssiap-3-remise-a-niveau-03-11-202
 5/
SUMMARY:SSIAP 3 Remise à niveau - 03/11/2025
DESCRIPTION:Agent de sérvice de sécurité incendie et d'assistance à per
 sonnes\nFormation remise à niveau : 35 heures.\nPrise en charge par le CP
 F.
CATEGORIES:Sécurité
LOCATION:\, \, 
X-APPLE-STRUCTURED-LOCATION;VALUE=URI;X-ADDRESS=\, ;X-APPLE-RADIUS=100;X-TI
 TLE=:geo:0,0
END:VEVENT
END:VCALENDAR