BEGIN:VCALENDAR
VERSION:2.0
PRODID:-//wp-events-plugin.com//7.2.3.1//EN
BEGIN:VEVENT
UID:314@formaguard.fr
DTSTART;VALUE=DATE:20250217
DTEND;VALUE=DATE:20250222
DTSTAMP:20241112T154802Z
URL:https://www.formaguard.fr/formations/ssiap-3-remise-a-niveau-17-02-202
 5-2/
SUMMARY:SSIAP 3 Remise à niveau - 17/02/2025
DESCRIPTION:Agent de sérvice de sécurité incendie et d'assistance à per
 sonnes\nFormation remise à niveau : 35 heures.\nPrise en charge par le CP
 F.
ATTACH;FMTTYPE=image/jpeg:https://www.formaguard.fr/wp-content/uploads/202
 2/07/shutterstock_2020264679.jpg
CATEGORIES:Sécurité
LOCATION:\, \, 
X-APPLE-STRUCTURED-LOCATION;VALUE=URI;X-ADDRESS=\, ;X-APPLE-RADIUS=100;X-TI
 TLE=:geo:0,0
END:VEVENT
END:VCALENDAR