BEGIN:VCALENDAR
VERSION:2.0
PRODID:-//wp-events-plugin.com//7.2.3.1//EN
BEGIN:VEVENT
UID:445@formaguard.fr
DTSTART;VALUE=DATE:20260528
DTEND;VALUE=DATE:20260530
DTSTAMP:20251014T100542Z
URL:https://www.formaguard.fr/formations/sst-initiale-28-05-2026/
SUMMARY:SST - Initiale - 28/05/2026
DESCRIPTION:Sauveteur secouriste du travail\nFormation initiale de 14 heure
 s.
ATTACH;FMTTYPE=image/jpeg:https://www.formaguard.fr/wp-content/uploads/202
 2/07/sst_02.jpg
CATEGORIES:Secourisme
END:VEVENT
END:VCALENDAR