BEGIN:VCALENDAR
VERSION:2.0
PRODID:-//wp-events-plugin.com//7.2.3.1//EN
BEGIN:VEVENT
UID:474@formaguard.fr
DTSTART;VALUE=DATE:20260826
DTEND;VALUE=DATE:20260827
DTSTAMP:20251016T083947Z
URL:https://www.formaguard.fr/formations/sst-mac-26-08-2026/
SUMMARY:SST - MAC - 26/08/2026
DESCRIPTION:Sauveteur secouriste du travail\nFormation maintien et actualis
 ation des competences de 7 heures.
ATTACH;FMTTYPE=image/jpeg:https://www.formaguard.fr/wp-content/uploads/202
 2/07/sst.jpg
CATEGORIES:Secourisme
END:VEVENT
END:VCALENDAR