BEGIN:VCALENDAR
VERSION:2.0
PRODID:-//wp-events-plugin.com//7.2.3.1//EN
BEGIN:VEVENT
UID:372@formaguard.fr
DTSTART;VALUE=DATE:20260601
DTEND;VALUE=DATE:20260704
DTSTAMP:20251013T084143Z
URL:https://www.formaguard.fr/formations/tfp-aps-01-06-2026/
SUMMARY:TFP APS - 01/06/2026
DESCRIPTION:Titre à finalité professionnelle d'agent de prévention et de
  sécurité\nFormation initiale de 175 heures (5 semaines).\nPrise en char
 ge par le CPF.
CATEGORIES:Sécurité
END:VEVENT
END:VCALENDAR