BEGIN:VCALENDAR
VERSION:2.0
PRODID:-//wp-events-plugin.com//7.2.3.1//EN
BEGIN:VEVENT
UID:405@formaguard.fr
DTSTART;VALUE=DATE:20261019
DTEND;VALUE=DATE:20261124
DTSTAMP:20251014T080442Z
URL:https://www.formaguard.fr/formations/tfp-aps-19-10-2026/
SUMMARY:TFP APS - 19/10/2026
DESCRIPTION:Titre à finalité professionnelle d'agent de prévention et de
  sécurité\nFormation initiale de 175 heures (5 semaines).\nPrise en char
 ge par le CPF.
CATEGORIES:Sécurité
END:VEVENT
END:VCALENDAR